BEGIN:VCALENDAR
VERSION:2.0
PRODID:-//Commune de Trois Palis - ECPv6.15.20//NONSGML v1.0//EN
CALSCALE:GREGORIAN
METHOD:PUBLISH
X-WR-CALNAME:Commune de Trois Palis
X-ORIGINAL-URL:http://trois-palis.fr
X-WR-CALDESC:Évènements pour Commune de Trois Palis
REFRESH-INTERVAL;VALUE=DURATION:PT1H
X-Robots-Tag:noindex
X-PUBLISHED-TTL:PT1H
BEGIN:VTIMEZONE
TZID:Europe/Paris
BEGIN:DAYLIGHT
TZOFFSETFROM:+0100
TZOFFSETTO:+0200
TZNAME:CEST
DTSTART:20240331T010000
END:DAYLIGHT
BEGIN:STANDARD
TZOFFSETFROM:+0200
TZOFFSETTO:+0100
TZNAME:CET
DTSTART:20241027T010000
END:STANDARD
BEGIN:DAYLIGHT
TZOFFSETFROM:+0100
TZOFFSETTO:+0200
TZNAME:CEST
DTSTART:20250330T010000
END:DAYLIGHT
BEGIN:STANDARD
TZOFFSETFROM:+0200
TZOFFSETTO:+0100
TZNAME:CET
DTSTART:20251026T010000
END:STANDARD
BEGIN:DAYLIGHT
TZOFFSETFROM:+0100
TZOFFSETTO:+0200
TZNAME:CEST
DTSTART:20260329T010000
END:DAYLIGHT
BEGIN:STANDARD
TZOFFSETFROM:+0200
TZOFFSETTO:+0100
TZNAME:CET
DTSTART:20261025T010000
END:STANDARD
END:VTIMEZONE
BEGIN:VEVENT
DTSTART;TZID=Europe/Paris:20251220T103000
DTEND;TZID=Europe/Paris:20251220T123000
DTSTAMP:20260425T125341
CREATED:20251210T054104Z
LAST-MODIFIED:20251210T054104Z
UID:921-1766226600-1766233800@trois-palis.fr
SUMMARY:Atelier magie
DESCRIPTION:Le Samedi 20 Décembre à 10h30 un atelier de magie est\noffert aux collégiens . (Salle sous la Mairie)\nInscriptions obligatoire pour l’atelier au plus tard le 15/12/25( Limité à 15 places)\nSandra BOUCHET : 06 67 73 28 46 ou par mail esga16.bouchet@gmail.com
URL:http://trois-palis.fr/event/atelier-magie/
ORGANIZER;CN="Culture%2C mairie de 3 Palis":MAILTO:mairie.troispalis@wanadoo.fr
END:VEVENT
BEGIN:VEVENT
DTSTART;TZID=Europe/Paris:20251221T153000
DTEND;TZID=Europe/Paris:20251221T170000
DTSTAMP:20260425T125341
CREATED:20251210T054218Z
LAST-MODIFIED:20251210T054218Z
UID:923-1766331000-1766336400@trois-palis.fr
SUMMARY:Gouter de noël
DESCRIPTION:La municipalité de Trois-Palis offre aux enfants de la commune un goûter de Noël
URL:http://trois-palis.fr/event/gouter-de-noel/
LOCATION:Trois-Palis\, 1 route de l'école\, Trois Palis\, 16730\, France
END:VEVENT
END:VCALENDAR